BEGIN:VCALENDAR
VERSION:2.0
PRODID:die-gruenen-im-rat.de
METHOD:PUBLISH
BEGIN:VTIMEZONE
TZID:Europe/Berlin
X-LIC-LOCATION:Europe/Berlin
BEGIN:DAYLIGHT
TZOFFSETFROM:+0100
TZOFFSETTO:+0200
TZNAME:CEST
DTSTART:19700329T020000
RRULE:FREQ=YEARLY;INTERVAL=1;BYDAY=-1SU;BYMONTH=3
END:DAYLIGHT
BEGIN:STANDARD
TZOFFSETFROM:+0200
TZOFFSETTO:+0100
TZNAME:CET
DTSTART:19701025T030000
RRULE:FREQ=YEARLY;INTERVAL=1;BYDAY=-1SU;BYMONTH=10
END:STANDARD
END:VTIMEZONE
BEGIN:VEVENT
UID:29d62b4a32dbc5f2f23eda2c5de39d55@die-gruenen-im-rat.de
URL;VALUE=URI:https://die-gruenen-im-rat.de/termine/stadtratssitzung-13/
LOCATION:
SUMMARY:Stadtratssitzung
DESCRIPTION;ALTREP="data:text/html,%0A%3Cp%3EPfalzbau%3C%2Fp%3E%0A":Pfalz
 bau
CLASS:PUBLIC
DTSTART;TZID=Europe/Berlin:20260921T150000
DTEND;TZID=Europe/Berlin:20260921T160000
DTSTAMP:20260425T154615
END:VEVENT
END:VCALENDAR