BEGIN:VCALENDAR
VERSION:2.0
PRODID:die-gruenen-im-rat.de
METHOD:PUBLISH
BEGIN:VTIMEZONE
TZID:Europe/Berlin
X-LIC-LOCATION:Europe/Berlin
BEGIN:DAYLIGHT
TZOFFSETFROM:+0100
TZOFFSETTO:+0200
TZNAME:CEST
DTSTART:19700329T020000
RRULE:FREQ=YEARLY;INTERVAL=1;BYDAY=-1SU;BYMONTH=3
END:DAYLIGHT
BEGIN:STANDARD
TZOFFSETFROM:+0200
TZOFFSETTO:+0100
TZNAME:CET
DTSTART:19701025T030000
RRULE:FREQ=YEARLY;INTERVAL=1;BYDAY=-1SU;BYMONTH=10
END:STANDARD
END:VTIMEZONE
BEGIN:VEVENT
UID:a15cee871b1b035cd4f53337d1f094e0@die-gruenen-im-rat.de
URL;VALUE=URI:https://die-gruenen-im-rat.de/termine/stadtratssitzung-11/
LOCATION:
SUMMARY:Stadtratssitzung
DESCRIPTION;ALTREP="data:text/html,%0A%3Cp%3EPfalzbau%3C%2Fp%3E%0A":Pfalz
 bau
CLASS:PUBLIC
DTSTART;TZID=Europe/Berlin:20260427T150000
DTEND;TZID=Europe/Berlin:20260427T160000
DTSTAMP:20260425T141420
END:VEVENT
BEGIN:VEVENT
UID:62726ca063f4b266903f9e74d9fed857@die-gruenen-im-rat.de
URL;VALUE=URI:https://die-gruenen-im-rat.de/termine/fraktionssitzung-23/
LOCATION:
SUMMARY:Fraktionssitzung
DESCRIPTION;ALTREP="data:text/html,%0A%3Cp%3EGr%C3%BCnes%20B%C3%BCro%20%2
 F%20digital%3C%2Fp%3E%0A":Grünes Büro / digital
CLASS:PUBLIC
DTSTART;TZID=Europe/Berlin:20260528T190000
DTEND;TZID=Europe/Berlin:20260528T200000
DTSTAMP:20260425T141420
END:VEVENT
BEGIN:VEVENT
UID:d22dc98d5a73a2486e3b4cd5492616f6@die-gruenen-im-rat.de
URL;VALUE=URI:https://die-gruenen-im-rat.de/termine/fraktionssitzung-24/
LOCATION:
SUMMARY:Fraktionssitzung
DESCRIPTION;ALTREP="data:text/html,%0A%3Cp%3EGr%C3%BCnes%20B%C3%BCro%20%2
 F%20digital%3C%2Fp%3E%0A":Grünes Büro / digital
CLASS:PUBLIC
DTSTART;TZID=Europe/Berlin:20260618T190000
DTEND;TZID=Europe/Berlin:20260618T200000
DTSTAMP:20260425T141420
END:VEVENT
BEGIN:VEVENT
UID:58c541441b2d517f478c60d4fbf14ddc@die-gruenen-im-rat.de
URL;VALUE=URI:https://die-gruenen-im-rat.de/termine/stadtratssitzung-12/
LOCATION:
SUMMARY:Stadtratssitzung
DESCRIPTION;ALTREP="data:text/html,%0A%3Cp%3EPfalzbau%3C%2Fp%3E%0A":Pfalz
 bau
CLASS:PUBLIC
DTSTART;TZID=Europe/Berlin:20260622T150000
DTEND;TZID=Europe/Berlin:20260622T160000
DTSTAMP:20260425T141420
END:VEVENT
BEGIN:VEVENT
UID:9f261e66ef88a680680281f61d1b5ed8@die-gruenen-im-rat.de
URL;VALUE=URI:https://die-gruenen-im-rat.de/termine/fraktionssitzung-25/
LOCATION:
SUMMARY:Fraktionssitzung
DESCRIPTION;ALTREP="data:text/html,%0A%3Cp%3EGr%C3%BCnes%20B%C3%BCro%20%2
 F%20digital%3C%2Fp%3E%0A":Grünes Büro / digital
CLASS:PUBLIC
DTSTART;TZID=Europe/Berlin:20260820T190000
DTEND;TZID=Europe/Berlin:20260820T200000
DTSTAMP:20260425T141420
END:VEVENT
BEGIN:VEVENT
UID:c5ccd216c8c59ff83bfb5e6ee2f33733@die-gruenen-im-rat.de
URL;VALUE=URI:https://die-gruenen-im-rat.de/termine/fraktionssitzung-26/
LOCATION:
SUMMARY:Fraktionssitzung
DESCRIPTION;ALTREP="data:text/html,%0A%3Cp%3EGr%C3%BCnes%20B%C3%BCro%20%2
 F%20digital%3C%2Fp%3E%0A":Grünes Büro / digital
CLASS:PUBLIC
DTSTART;TZID=Europe/Berlin:20260917T190000
DTEND;TZID=Europe/Berlin:20260917T200000
DTSTAMP:20260425T141420
END:VEVENT
BEGIN:VEVENT
UID:926b8b848506d686509972b96c8ae351@die-gruenen-im-rat.de
URL;VALUE=URI:https://die-gruenen-im-rat.de/termine/stadtratssitzung-13/
LOCATION:
SUMMARY:Stadtratssitzung
DESCRIPTION;ALTREP="data:text/html,%0A%3Cp%3EPfalzbau%3C%2Fp%3E%0A":Pfalz
 bau
CLASS:PUBLIC
DTSTART;TZID=Europe/Berlin:20260921T150000
DTEND;TZID=Europe/Berlin:20260921T160000
DTSTAMP:20260425T141420
END:VEVENT
BEGIN:VEVENT
UID:28bb04285254b12857660b2ad42c2e0b@die-gruenen-im-rat.de
URL;VALUE=URI:https://die-gruenen-im-rat.de/termine/fraktionssitzung-27/
LOCATION:
SUMMARY:Fraktionssitzung
DESCRIPTION;ALTREP="data:text/html,%0A%3Cp%3EGr%C3%BCnes%20B%C3%BCro%20%2
 F%20digital%3C%2Fp%3E%0A":Grünes Büro / digital
CLASS:PUBLIC
DTSTART;TZID=Europe/Berlin:20261119T190000
DTEND;TZID=Europe/Berlin:20261119T200000
DTSTAMP:20260425T141420
END:VEVENT
BEGIN:VEVENT
UID:78395242d04dd7eab6b98f03191abf25@die-gruenen-im-rat.de
URL;VALUE=URI:https://die-gruenen-im-rat.de/termine/fraktionssitzung-28/
LOCATION:
SUMMARY:Fraktionssitzung
DESCRIPTION;ALTREP="data:text/html,%0A%3Cp%3EGr%C3%BCnes%20B%C3%BCro%20%2
 F%20digital%3C%2Fp%3E%0A":Grünes Büro / digital
CLASS:PUBLIC
DTSTART;TZID=Europe/Berlin:20261210T190000
DTEND;TZID=Europe/Berlin:20261210T200000
DTSTAMP:20260425T141420
END:VEVENT
BEGIN:VEVENT
UID:6faaa1666b2a6b41978f4d878ce9fdb5@die-gruenen-im-rat.de
URL;VALUE=URI:https://die-gruenen-im-rat.de/termine/stadtratssitzung-14/
LOCATION:
SUMMARY:Stadtratssitzung
DESCRIPTION;ALTREP="data:text/html,%0A%3Cp%3EPfalzbau%3C%2Fp%3E%0A":Pfalz
 bau
CLASS:PUBLIC
DTSTART;TZID=Europe/Berlin:20261214T150000
DTEND;TZID=Europe/Berlin:20261214T160000
DTSTAMP:20260425T141420
END:VEVENT
END:VCALENDAR